BEGIN:VCALENDAR
BEGIN:VEVENT
SUMMARY:Tomin\, Selendis Johnson Band (w/ Nathan Nakadegawa-Lee\, Ben Sher
 man\, Kayla Kessler\, Josh Mathews) [nycnoise]
DTSTART:20251027T230000Z
DTEND:20251028T000000Z
UID:785cd797-aeb2-4d9b-aa94-144a4fd51656
CREATED:20260420T145600Z
DESCRIPTION:lineup asap (submit info)
LOCATION:brothers wash & dry laundromat (5420 nurge ave\, queens)
END:VEVENT
END:VCALENDAR
