BEGIN:VCALENDAR
BEGIN:VEVENT
SUMMARY:environs: IKWE\, Friends with Heads\, Leftpop\, paper gem (DJ) [ny
 cnoise]
DTSTART:20251018T000000Z
DTEND:20251018T010000Z
UID:84943e28-f1ef-4eaa-bc4b-a71881466b6b
CREATED:20260420T145201Z
DESCRIPTION:7pm doors\; FwH: Luke Runels\, Ethan Cohn\, Tree Palmedo\, Ale
 xander Baiz\; Leftpop: Harrison Adams
LOCATION:dada (6047 Myrtle Ave\, Queens\, NY 11385)
END:VEVENT
END:VCALENDAR
