BEGIN:VCALENDAR
BEGIN:VEVENT
SUMMARY:2nd Annual Dada Surrealist Ball\, ft. Rute Ventura & Orchid McRae 
 + more [nycnoise]
DTSTART:20251012T000000Z
DTEND:20251012T010000Z
UID:2b0e8a73-06af-4034-bcec-53d54319216c
CREATED:20260420T145203Z
DESCRIPTION:DJs Concret\, Christina Crossin\, Matias Jofre\, &amp\; more\;
  complimentary champagne 8-8:30pm
LOCATION:dada (6047 Myrtle Ave\, Queens\, NY 11385)
END:VEVENT
END:VCALENDAR
