BEGIN:VCALENDAR
BEGIN:VEVENT
SUMMARY:Systems Nominal\, Attic Ivy\, Death Drive\, Yanusai [nycnoise]
DTSTART:20251002T233000Z
DTEND:20251003T003000Z
UID:acb90e13-ad27-4366-a74c-f868791f6028
CREATED:20260420T145214Z
DESCRIPTION:
LOCATION:trans-pecos (9-15 wyckoff ave\, ridgewood)
END:VEVENT
END:VCALENDAR
