BEGIN:VCALENDAR
BEGIN:VEVENT
SUMMARY:Collective Effort Fest\, Day #1/2 [nycnoise]
DTSTART:20251011T180000Z
DTEND:20251011T190000Z
UID:4e857d43-118d-4f73-a5e3-f589c3e0e4ba
CREATED:20260420T145206Z
DESCRIPTION:Zao\, Thou\, Cloud Rat\, So Hideous\, Somnuri\, Locked In A Va
 cancy\, Chepang\, Liberate\, Fluoride\, Sevencrimsonsuns
LOCATION:meadows (17 meadow st.\, brooklyn)
END:VEVENT
END:VCALENDAR
