BEGIN:VCALENDAR
BEGIN:VEVENT
SUMMARY:Yves Tumor (DJ) [nycnoise]
DTSTART:20251025T023000Z
DTEND:20251025T033000Z
UID:c58a0364-f498-4191-bfde-3c752465d16d
CREATED:20260420T145346Z
DESCRIPTION:
LOCATION:elsewhere (599 johnson ave\, brooklyn)
END:VEVENT
END:VCALENDAR
