BEGIN:VCALENDAR
BEGIN:VEVENT
SUMMARY:Uptown Out: Virg Dzurinko / Will Glass / Mary Cherney / Claire de 
 Brunner / Matt Lambiase [nycnoise]
DTSTART:20251009T230000Z
DTEND:20251010T000000Z
UID:e0b881f5-3b07-48cf-852a-b527fce16ccd
CREATED:20260420T145328Z
DESCRIPTION:
LOCATION:recirculation (876 Riverside Dr\, New York\, NY 10032)
END:VEVENT
END:VCALENDAR
