BEGIN:VCALENDAR
BEGIN:VEVENT
SUMMARY:Uptown Out presents: Wilfrido Terrazas / Mary Cherney / Stephanie 
 Griffin / Will Glass [nycnoise]
DTSTART:20251011T230000Z
DTEND:20251012T000000Z
UID:cb914a8d-04e4-4fa0-9c7f-c4cfd345c4c2
CREATED:20260420T145321Z
DESCRIPTION:
LOCATION:word up librería comunitaria (2113 Amsterdam Ave\, New York\, NY
  10032)
END:VEVENT
END:VCALENDAR
