BEGIN:VCALENDAR
BEGIN:VEVENT
SUMMARY:Stereo Mandrax Presents: Major Stars\, FRKSE\, IMA (Amma Ateria & 
 Nava Dunkelman) [nycnoise]
DTSTART:20251026T230000Z
DTEND:20251027T000000Z
UID:aaf6039d-6e2a-4326-8217-15ae2aa5994c
CREATED:20260420T145454Z
DESCRIPTION:
LOCATION:pianos (158 Ludlow St\, New York\, NY 10002)
END:VEVENT
END:VCALENDAR
