BEGIN:VCALENDAR
BEGIN:VEVENT
SUMMARY:Bellcave s3 ep4: Warp Duo (Levi Lu & Scott Li)\, Daniel Carter / A
 yumi Ishito / Yoko Togami\, jondownload (Jon Starks) [nycnoise]
DTSTART:20251024T230000Z
DTEND:20251025T000000Z
UID:b0a903bf-0f85-49b9-8ac8-66bebdf37fe3
CREATED:20260420T145203Z
DESCRIPTION:
LOCATION:bellcave
END:VEVENT
END:VCALENDAR
