BEGIN:VCALENDAR
BEGIN:VEVENT
SUMMARY:Ambisonic Listening Event: Brian Wenner: Eternal Drift [nycnoise]
DTSTART:20251020T010000Z
DTEND:20251020T020000Z
UID:dec478c6-1a79-47cf-bd53-23930f8b9f50
CREATED:20260420T145320Z
DESCRIPTION:8:30pm doors\, please arrive before prompt 9pm start
LOCATION:reforesters laboratory (147 Metropolitan Ave\, Brooklyn\, NY 1124
 9)
END:VEVENT
END:VCALENDAR
