BEGIN:VCALENDAR
BEGIN:VEVENT
SUMMARY:Hell Gate's In Battle\, Bands: Reggie Mids & Friends\, Sui Moto\, 
 Monotone Assassins\, Ghost Rodeo\, Lost Dog [nycnoise]
DTSTART:20251008T230000Z
DTEND:20251009T000000Z
UID:92b37547-443e-4ee0-94ad-792c87d0c062
CREATED:20260420T145328Z
DESCRIPTION:
LOCATION:trans-pecos (9-15 wyckoff ave\, ridgewood)
END:VEVENT
END:VCALENDAR
