BEGIN:VCALENDAR
BEGIN:VEVENT
SUMMARY:$66 [nycnoise]
DTSTART:20251012T000000Z
DTEND:20251012T010000Z
UID:731af61d-1d73-4cd5-bdb6-70017fb343ba
CREATED:20260420T145410Z
DESCRIPTION:Reflections: John Carroll Kirby\, Miho Hatori\; 6:30pm doors
LOCATION:first unitarian church (119 pierrepont st.\, brooklyn)
END:VEVENT
END:VCALENDAR
