BEGIN:VCALENDAR
BEGIN:VEVENT
SUMMARY:Progressive Chamber Music Festival\, Night #2/2: Tim Berne + David
  Torn\, Theo Bleckmann "12 easy songs" [nycnoise]
DTSTART:20251011T230000Z
DTEND:20251012T000000Z
UID:d9468efd-bb36-4a56-a57a-e1e0d15b8439
CREATED:20260420T145248Z
DESCRIPTION:
LOCATION:greenwich house music school (46 barrow st.\, manhattan)
END:VEVENT
END:VCALENDAR
