BEGIN:VCALENDAR
BEGIN:VEVENT
SUMMARY:ambient\, noise\, & improvised music: Harassment\, Alex McGrath & 
 Francesca H\, Unknown Sound Collective\, Exit Seraphim [nycnoise]
DTSTART:20251009T220000Z
DTEND:20251009T230000Z
UID:012d2194-83cc-49d7-8f2b-882259a4ade5
CREATED:20260420T145358Z
DESCRIPTION:
LOCATION:kaleidoscope [RIP]
END:VEVENT
END:VCALENDAR
