BEGIN:VCALENDAR
BEGIN:VEVENT
SUMMARY:Unscripted Soundscapes: Jonathan Reisin / Ken Filiano / Ken Kobaya
 shi\, Caylie Davis / Chris Ferrari / Shogo Ellefson / JJ Mazza\, Marija Ko
 vačević / Rocío Sánchez / Eli Wallace [nycnoise]
DTSTART:20251025T230000Z
DTEND:20251026T000000Z
UID:2182354b-a75d-4d07-90be-ceab53a03dd8
CREATED:20260420T145419Z
DESCRIPTION:
LOCATION:ibeam (168 7th st.\, brooklyn)
END:VEVENT
END:VCALENDAR
