BEGIN:VCALENDAR
BEGIN:VEVENT
SUMMARY:Josephine Network\, Lightheaded\, Cruise Control [nycnoise]
DTSTART:20251007T000000Z
DTEND:20251007T010000Z
UID:091cd3fb-6f54-4111-aa2f-4d0c6aa6f356
CREATED:20260420T145247Z
DESCRIPTION:
LOCATION:purgatory (675 central ave\, brooklyn)
END:VEVENT
END:VCALENDAR
