BEGIN:VCALENDAR
BEGIN:VEVENT
SUMMARY:Lothario\, Loosey\, Michael Younker [nycnoise]
DTSTART:20251006T233000Z
DTEND:20251007T003000Z
UID:8251b402-8c86-480f-a100-c46b412a73b0
CREATED:20260420T145200Z
DESCRIPTION:
LOCATION:tv eye (1647 Weirfield St\, Ridgewood\, NY 11385)
END:VEVENT
END:VCALENDAR
