BEGIN:VCALENDAR
BEGIN:VEVENT
SUMMARY:David First will perform TripLetsTrip (ft. Megan Schubert\, Sam Ku
 lik) [nycnoise]
DTSTART:20251014T230000Z
DTEND:20251015T000000Z
UID:e8d5261f-8ff0-4393-babf-a93510062cbd
CREATED:20260420T145416Z
DESCRIPTION:🌀 notaflof work trade
LOCATION:light & sound design
END:VEVENT
END:VCALENDAR
