BEGIN:VCALENDAR
BEGIN:VEVENT
SUMMARY:dance practice (a dancefloor meditation): Rose Kourts & Yaya [nycn
 oise]
DTSTART:20251016T000000Z
DTEND:20251016T010000Z
UID:a67631a1-4298-4d89-add0-4042945659be
CREATED:20260420T145425Z
DESCRIPTION:7:30pm doors\, "begins with a group instruction on mindful mov
 ement &amp\; body awareness"
LOCATION:light & sound design
END:VEVENT
END:VCALENDAR
