BEGIN:VCALENDAR
BEGIN:VEVENT
SUMMARY:12x12 vol.4 Contemporary Dance Showcase [nycnoise]
DTSTART:20251102T230000Z
DTEND:20251103T000000Z
UID:4e0da3e3-9b31-49c3-838e-d346c9b2e7d8
CREATED:20260425T203703Z
DESCRIPTION:🌀 notaflof work trade
LOCATION:light & sound design
END:VEVENT
END:VCALENDAR
