BEGIN:VCALENDAR
BEGIN:VEVENT
SUMMARY:Bryce Hackford: '26 Clinical Tunes: A Building On The Broken Found
 ation' [nycnoise]
DTSTART:20251026T220000Z
DTEND:20251026T230000Z
UID:cb309325-f532-428e-aded-d23b5968239e
CREATED:20260420T145452Z
DESCRIPTION:
LOCATION:reforesters laboratory (147 Metropolitan Ave\, Brooklyn\, NY 1124
 9)
END:VEVENT
END:VCALENDAR
