BEGIN:VCALENDAR
BEGIN:VEVENT
SUMMARY:Jalpari\, Rosa Blanca\, Mohammed Zenia\, Petal\, N!TRO\, Sodom
 ahigomorra\, Jude Howl [nycnoise]
DTSTART:20251011T230000Z
DTEND:20251012T000000Z
UID:7ed7ff14-e7e5-4687-93e1-f791aa0350cb
CREATED:20260420T145200Z
DESCRIPTION:
LOCATION:intercomm (584 Woodward Ave\, Ridgewood\, NY 11385)
END:VEVENT
END:VCALENDAR
