BEGIN:VCALENDAR
BEGIN:VEVENT
SUMMARY:UP25 | A Quarter Century Under the BQE\, Night #1/2: Ryan Sawyer T
 rio\, Bill Nace + Samara Lubelski\, 75 Dollar Bill\, Tara Jane O'Neil [nyc
 noise]
DTSTART:20251029T230000Z
DTEND:20251030T000000Z
UID:339d8a53-3272-45bb-b177-85daf891cf35
CREATED:20260420T145323Z
DESCRIPTION:
LOCATION:union pool (484 union ave\, brooklyn)
END:VEVENT
END:VCALENDAR
