BEGIN:VCALENDAR
BEGIN:VEVENT
SUMMARY:UP25 | A Quarter Century Under the BQE\, Night #2/2: Frankie Rose\
 , Eric Copeland\, PC Worship\, Ice Balloons [nycnoise]
DTSTART:20251030T230000Z
DTEND:20251031T000000Z
UID:8e387f60-9609-4c9b-abfe-71d13809fc62
CREATED:20260420T145252Z
DESCRIPTION:
LOCATION:union pool (484 union ave\, brooklyn)
END:VEVENT
END:VCALENDAR
