BEGIN:VCALENDAR
BEGIN:VEVENT
SUMMARY:Skeleton Crawl Haunted Art Show: Rute Ventura & Pas Musique [nycno
 ise]
DTSTART:20251016T233000Z
DTEND:20251017T003000Z
UID:b6a6b101-6a0e-477f-916b-560a2f61a795
CREATED:20260420T145257Z
DESCRIPTION:6 pm doors\, 7pm "lights off\," 7:30pm performance\, 9:30pm ka
 raoke
LOCATION:gallery 198 (198 24th St\, Brooklyn\, NY 11232)
END:VEVENT
END:VCALENDAR
