BEGIN:VCALENDAR
BEGIN:VEVENT
SUMMARY:Teté Leguía / James McKain / Weasel Walter / Tom Weeks\, T.J. Bo
 rden / Kelly Bray / Kaelen Ghandhi / Evan Palmer\, Kevin Murray + Vid Ling
 er [nycnoise]
DTSTART:20251026T233000Z
DTEND:20251027T003000Z
UID:fa702eed-0d85-4096-96f6-03548a806a62
CREATED:20260420T145203Z
DESCRIPTION:
LOCATION:record shop (360 van brunt st.\, brooklyn)
END:VEVENT
END:VCALENDAR
