BEGIN:VCALENDAR
BEGIN:VEVENT
SUMMARY:HALLOWEEN: Loren Connors & Michael Vallera\, Elliot Sharp [nycnois
 e]
DTSTART:20251031T230000Z
DTEND:20251101T000000Z
UID:431f735d-3da4-4d38-8956-d284a1aa8879
CREATED:20260420T145407Z
DESCRIPTION:
LOCATION:p.i.t. (property is theft) (411 s. 5th st.\, brooklyn)
END:VEVENT
END:VCALENDAR
