BEGIN:VCALENDAR
BEGIN:VEVENT
SUMMARY:Abasement 81: Rubber (() Cement\, Demsyl\, Weston Olencki\, Mephit
 ick Ooze\, DJ Sandy Smiles\, Cable Visions (visuals)\, Bradley Eros (proje
 ctions) [nycnoise]
DTSTART:20251020T230000Z
DTEND:20251021T000000Z
UID:a1c2be99-278a-44f8-8fdd-4bd5f04b8cbd
CREATED:20260420T145205Z
DESCRIPTION:
LOCATION:artists space (11 cortlandt alley\, manhattan)
END:VEVENT
END:VCALENDAR
