BEGIN:VCALENDAR
BEGIN:VEVENT
SUMMARY:Abbie From Mars\, Mike Alfieri\, Mezzanine Swimmers [nycnoise]
DTSTART:20251108T040000Z
DTEND:20251108T050000Z
UID:275687e5-2b82-4e31-8bc4-5ebdd77106b4
CREATED:20260425T203630Z
DESCRIPTION:
LOCATION:broadway (1272 broadway\, brooklyn)
END:VEVENT
END:VCALENDAR
