BEGIN:VCALENDAR
BEGIN:VEVENT
SUMMARY:Realistic Wounds: Eeisa\, WhiteGirlIntl\, Ideas for Conversation\,
  Bux County\, ThanksGod [nycnoise]
DTSTART:20251024T033000Z
DTEND:20251024T043000Z
UID:c84c41c2-0e72-4943-a77f-f8174e71502a
CREATED:20260420T145324Z
DESCRIPTION:11pm doors\; insta
LOCATION:hart bar (538 hart st.\, brooklyn)
END:VEVENT
END:VCALENDAR
