BEGIN:VCALENDAR
BEGIN:VEVENT
SUMMARY:Spontaneous Resonance: DOT ISO (Dylan DelGiudice\, Vivek Menon\, O
 rchid McRae)\, Sam Childs / Jeff Miles / Evan Crane / Ken Kobayashi [nycno
 ise]
DTSTART:20251105T010000Z
DTEND:20251105T020000Z
UID:d8ddd0f7-7ea5-4217-b420-3a1c0e17eaea
CREATED:20260425T203933Z
DESCRIPTION:
LOCATION:ibeam (168 7th st.\, brooklyn)
END:VEVENT
END:VCALENDAR
