BEGIN:VCALENDAR
BEGIN:VEVENT
SUMMARY:Eyal Maoz Band plays Lemon Juice Quartet & more (w/ Alexandra Rido
 ut\, Shanir Blumenkranz\, Kevin Zubek) [nycnoise]
DTSTART:20251026T230000Z
DTEND:20251027T000000Z
UID:1b95bfe9-22e5-4961-a226-ead26871be09
CREATED:20260420T145138Z
DESCRIPTION:
LOCATION:big bar (75 E 7th St\, New York\, NY 10003)
END:VEVENT
END:VCALENDAR
