BEGIN:VCALENDAR
BEGIN:VEVENT
SUMMARY:Quantum: Battygyal\, TAH\, Maya Margarita\, FEEL MORE (Philip Morg
 an b2b Morgan Morgan) [nycnoise]
DTSTART:20251026T020000Z
DTEND:20251026T030000Z
UID:d92dcf9a-f068-40e8-ad36-d3cdc5cbfc51
CREATED:20260420T145423Z
DESCRIPTION:
LOCATION:bossa nova civic club (1271 myrtle ave\, brooklyn)
END:VEVENT
END:VCALENDAR
