BEGIN:VCALENDAR
BEGIN:VEVENT
SUMMARY:Rubbermaid\, Jehovah's Princess\, DJ Michael Tapper [nycnoise]
DTSTART:20251028T230000Z
DTEND:20251029T000000Z
UID:a8ccecf0-f436-4ba2-ad2d-d0caed5dc31f
CREATED:20260420T145135Z
DESCRIPTION:
LOCATION:pianos (158 Ludlow St\, New York\, NY 10002)
END:VEVENT
END:VCALENDAR
