BEGIN:VCALENDAR
BEGIN:VEVENT
SUMMARY:Intercomm Record Fair (w/ DJs Sweater On Polo & more) [nycnoise]
DTSTART:20251026T160000Z
DTEND:20251026T170000Z
UID:d95a6bde-9b64-4ace-a8a4-9e7af533eda0
CREATED:20260420T145458Z
DESCRIPTION:
LOCATION:intercomm (584 Woodward Ave\, Ridgewood\, NY 11385)
END:VEVENT
END:VCALENDAR
