BEGIN:VCALENDAR
BEGIN:VEVENT
SUMMARY:Heavy Hearts Anniversary: Dis Fig x KING VISION ULTRA\, Dreamcrush
 er\, Chris Ryan Williams\, Lo.S.O\, Miss Grit\, Latinacroft\, medium. (DJ 
 b2b) [nycnoise]
DTSTART:20251117T000000Z
DTEND:20251117T010000Z
UID:ea683a4a-3f69-4322-84c3-2d6888d4a69c
CREATED:20260425T203609Z
DESCRIPTION:🇵🇸 PACBI (heavy hearts) // 😷 "WEAR A MASK. WE KEEP US
  SAFE"\; presentation by NY Cultural Solidarity Project\; tabling by same 
 + PTP\, DEATHBYSHEEP\, Ash Suh\; curated by Yaz Lancaster
LOCATION:trans-pecos (9-15 wyckoff ave\, ridgewood)
END:VEVENT
END:VCALENDAR
