BEGIN:VCALENDAR
BEGIN:VEVENT
SUMMARY:Weinberg Residency: Peter Evans & Rob Stabinsky\, Sam Weinberg Tri
 o (w/ Henry Fraser\, Randy Peterson) [nycnoise]
DTSTART:20251105T003000Z
DTEND:20251105T013000Z
UID:8f59a6b1-844c-4bed-bcf2-11fdca58de77
CREATED:20260425T203701Z
DESCRIPTION:
LOCATION:sisters (900 fulton st.\, brooklyn)
END:VEVENT
END:VCALENDAR
