BEGIN:VCALENDAR
BEGIN:VEVENT
SUMMARY:THERMOPALOOZA: It's Your Fault Theater\, Alice Cohen\, The Vacuum 
 Vessels [nycnoise]
DTSTART:20251102T200000Z
DTEND:20251102T210000Z
UID:58cad0ad-f3d3-4c34-82a8-96962b20ee6c
CREATED:20260425T203657Z
DESCRIPTION:
LOCATION:young ethel's (506 5th ave\, brooklyn)
END:VEVENT
END:VCALENDAR
