BEGIN:VCALENDAR
BEGIN:VEVENT
SUMMARY:Emi Makabe\, Yayoi Ikawa [nycnoise]
DTSTART:20251111T003000Z
DTEND:20251111T013000Z
UID:c5388d88-f516-4898-babd-d8ed5553a03a
CREATED:20260425T204015Z
DESCRIPTION:
LOCATION:ibeam (168 7th st.\, brooklyn)
END:VEVENT
END:VCALENDAR
