BEGIN:VCALENDAR
BEGIN:VEVENT
SUMMARY:Stefan Tcherepnin: 'Songs for the Living\,' Day #1/2 [nycnoise]
DTSTART:20251101T233000Z
DTEND:20251102T003000Z
UID:a1fff487-4d3d-45d2-977d-b7e8cfe39647
CREATED:20260425T203934Z
DESCRIPTION:7pm doors
LOCATION:blank forms (1d) (468 grand ave #1d\, brooklyn)
END:VEVENT
END:VCALENDAR
