BEGIN:VCALENDAR
BEGIN:VEVENT
SUMMARY:Stefan Tcherepnin: 'Songs for the Living\,' Day #2/2 [nycnoise]
DTSTART:20251102T193000Z
DTEND:20251102T203000Z
UID:73a082cd-26b5-4a25-b665-7e0b6beaac2d
CREATED:20260425T203609Z
DESCRIPTION:2pm doors
LOCATION:blank forms (1d) (468 grand ave #1d\, brooklyn)
END:VEVENT
END:VCALENDAR
