BEGIN:VCALENDAR
BEGIN:VEVENT
SUMMARY:Sorry Records: Ali Berger\, Ivan Monegro\, Nick Boyd [nycnoise]
DTSTART:20251103T030000Z
DTEND:20251103T040000Z
UID:0dab1b8b-efa2-4b67-8511-3b9a7942b996
CREATED:20260425T203829Z
DESCRIPTION:
LOCATION:bossa nova civic club (1271 myrtle ave\, brooklyn)
END:VEVENT
END:VCALENDAR
