BEGIN:VCALENDAR
BEGIN:VEVENT
SUMMARY:FACETIME: LYDO\, Blackmoonchild\, Eric Umble [nycnoise]
DTSTART:20251109T030000Z
DTEND:20251109T040000Z
UID:8fe538fe-1e32-4e15-a1d6-58a717e4e382
CREATED:20260425T203656Z
DESCRIPTION:
LOCATION:bossa nova civic club (1271 myrtle ave\, brooklyn)
END:VEVENT
END:VCALENDAR
