BEGIN:VCALENDAR
BEGIN:VEVENT
SUMMARY:dream/self: Pure Immanence\, Lychee b2b threehz [nycnoise]
DTSTART:20251113T030000Z
DTEND:20251113T040000Z
UID:672bac65-0d28-4e6a-840e-1c1ea0009a3a
CREATED:20260425T203830Z
DESCRIPTION:
LOCATION:bossa nova civic club (1271 myrtle ave\, brooklyn)
END:VEVENT
END:VCALENDAR
