BEGIN:VCALENDAR
BEGIN:VEVENT
SUMMARY:gaucimusic presents: Samantha Kochis & Hans Young Binter\, Stephen
  Gauci & Andrew Drury\, Chrisopher Hoffman / Jeong Lim Yang / Timothy Angu
 lo [nycnoise]
DTSTART:20251115T233000Z
DTEND:20251116T003000Z
UID:06707440-5aeb-4b9e-b2fc-b0ec45b2784e
CREATED:20260425T203655Z
DESCRIPTION:
LOCATION:downtown music gallery (13 monroe st.\, manhattan)
END:VEVENT
END:VCALENDAR
