BEGIN:VCALENDAR
BEGIN:VEVENT
SUMMARY:RABBLE (FourOneOne x Black Aesthetics): Asphalt Savannahs\, HxH / 
 Laura Sofía Pérez / Kayla Farrish\, Dunums\, Arien Wilkerson\, Qiujiang 
 Levi Lu & Kwami Winfield [nycnoise]
DTSTART:20251115T230000Z
DTEND:20251116T000000Z
UID:2e77357a-a1e0-46e0-8bac-4970ae1fea40
CREATED:20260425T203931Z
DESCRIPTION:5pm doors\; Black Aesthetics curators: Arien Wilkerson &amp\; 
 Malcom-x Betts
LOCATION:judson church (55 washington sq south\, manhattan)
END:VEVENT
END:VCALENDAR
