BEGIN:VCALENDAR
BEGIN:VEVENT
SUMMARY:OPEN AiR: Kat Sotelo: 'A DEVOTION TO FAILURE' [nycnoise]
DTSTART:20251121T000000Z
DTEND:20251121T010000Z
UID:e3dbc5b1-4376-4d86-bac5-ea0f741ee1eb
CREATED:20260425T204012Z
DESCRIPTION:
LOCATION:cpr (center for performance research) (361 manhattan ave\, brookl
 yn)
END:VEVENT
END:VCALENDAR
