BEGIN:VCALENDAR
BEGIN:VEVENT
SUMMARY:Zosha Warpeha: Long Exposure [nycnoise]
DTSTART:20251113T010000Z
DTEND:20251113T020000Z
UID:f9f2792d-c17a-418c-9098-320b7a0a56e3
CREATED:20260425T203933Z
DESCRIPTION:7:30pm doors
LOCATION:issue project room (22 boerum place\, brooklyn)
END:VEVENT
END:VCALENDAR
