BEGIN:VCALENDAR
BEGIN:VEVENT
SUMMARY:ISSUE presents: Jackson-Pratt: 'Mental Re-Suspension: Live Paintin
 g Music No.10 (For Anguish Under Foot)' [nycnoise]
DTSTART:20251206T010000Z
DTEND:20251206T020000Z
UID:90d07105-c320-48fb-b5eb-9883bf766889
CREATED:20260425T184112Z
DESCRIPTION:7:30pm doors\; no signs of waitlist
LOCATION:mitu580 (580 Sackett St Unit A - Ground Fl\, Brooklyn\, NY 11217)
END:VEVENT
END:VCALENDAR
